BEGIN:VCALENDAR
VERSION:2.0
PRODID:-//pretix//pretix.eu//
BEGIN:VEVENT
UID:pretix-animexx-cnkm2026-0@tickets.animexx.de
DTSTART;VALUE=DATE:20260904
DTEND;VALUE=DATE:20260907
DESCRIPTION:Tickets: https://tickets.animexx.de/cnkm2026/\nVeranstalter: An
 imexx e.V.
DTSTAMP:20260425T225948Z
LOCATION:RheinMain CongressCenter\, Friedrich-Ebert-Allee 1\, 65185 Wiesbad
 en
SUMMARY:Connichi 2026 Kreativ-Markt
END:VEVENT
END:VCALENDAR
